{"text_format":"1","workbook":"xlsx","n_sheets":4,"sheets":["Entry","Results","simbios","stn info"],"not_rendered":{"charts":0,"images":0,"macros":0,"external_links":1,"defined_names":0,"comments":1,"pivot_tables":0},"unopened":[],"bounds":{"document_bytes":16777216,"sheet_cells":100000,"rows_first":2000,"rows_last":500,"rows_between":2000,"halvings":0,"cell_chars":16384,"cell_head_chars":4096},"cells_cut":0,"cells_raw":0,"read":"whole","date_system":"1904"}

{"sheet":"Entry","index":0,"n_rows":62,"n_cols":12,"rows_kept":62,"cut":false,"hidden":false,"merged":[]}
[null,"Cruise: ","TN376 UW",null,null,null,"Enter data in green cells only!"]
["Treatment","Sample\n#","Date\nmm/dd/yyyy","Time from T0","fb","fa","scale","corr fb","corr fa","Factor\ntau/(tau-1)",null,"Blank"]
["control 1",null,null,null,null,null,null,null,null,1.9438]
["control 2",{"$f":"B3+1","v":1}]
["control 3",{"$f":"B4+1","v":2}]
["SAMW 4",3]
["SAMW 5",4]
["SAMW 6",5]
["control 1",6]
["control 2",7]
["control 3",8]
["NO3 4",9]
["NO3 5",10]
["NO3 6",11]
["SAMW 7",12]
["SAMW 8",13]
["SAMW 9",14]
["Si 10",15]
["Si 11",16]
["Si 12",17]
["Fe + Si 13",18]
["Fe + Si 14",19]
["Fe + Si 15",20]
["Fe 16",21]
["Fe 17",22]
["Fe 18",23]
["control 1",24]
["control 2",25]
["control 3",26]
["NO3 4",27]
["NO3 5",28]
["NO3 6",29]
["SAMW 7",30]
["SAMW 8",31]
["SAMW 9",32]
["Si 10",33]
["Si 11",34]
["Si 12",35]
["Fe + Si 13",36]
["Fe + Si 14",37]
["Fe + Si 15",38]
["Fe 16",39]
["Fe 17",40]
["Fe 18",41]
["control 1",42]
["control 2",43]
["control 3",44]
["NO3 4",45]
["NO3 5",46]
["NO3 6",47]
["SAMW 7",48]
["SAMW 8",49]
["SAMW 9",50]
["Si 10",51]
["Si 11",52]
["Si 12",53]
["Fe + Si 13",54]
["Fe + Si 14",55]
["Fe + Si 15",56]
["Fe 16",57]
["Fe 17",58]
["Fe 18",59]

{"sheet":"Results","index":1,"n_rows":37,"n_cols":21,"rows_kept":37,"cut":false,"hidden":false,"merged":[]}
["Sample #","Filter","Date","Time From 0","F vol (ml)","E vol (ml)","Fb","Fa","Dilution","Factor     (r/r-1)","Chl (ug/l)","Fb/Fa","Avg Chl","Avg Fb/Fa","Chl a","Pheo","Chl a+Pheo","Avg Chl a","Avg Pheo","Avg Chla+Pheo","Dev. Chla"]
[{"$f":"Entry!B3","v":0},"HA",{"$f":"Entry!C3","v":"1904-01-01"},{"$f":"Entry!D3","v":0},100,10,{"$f":"[1]Entry!M3","v":99},{"$f":"[1]Entry!N3","v":99},1,{"$f":"[1]Entry!O3","v":0},{"$f":"G2*(F2/E2)*I2","v":9.9},{"$f":"G2/H2","v":1},null,null,{"$f":"(G2-H2)*J2*(F2/E2)*I2","v":0},{"$f":"J2*(1.84*H2-G2)*(F2/E2)*I2","v":0},{"$f":"O2+P2","v":0}]
[{"$f":"Entry!B4","v":1},"HA",{"$f":"Entry!C4","v":"1904-01-01"},{"$f":"Entry!D4","v":0},100,10,{"$f":"[1]Entry!M4","v":99},{"$f":"[1]Entry!N4","v":99},1,{"$f":"J2","v":0},9.9,1,null,null,0,0,0]
[{"$f":"Entry!B5","v":2},"HA",{"$f":"Entry!C5","v":"1904-01-01"},{"$f":"Entry!D5","v":0},100,10,{"$f":"[1]Entry!M5","v":99},{"$f":"[1]Entry!N5","v":99},1,{"$f":"J3","v":0},9.9,1,{"$f":"(K2+K3+K4)/3","v":9.9},{"$f":"(L2+L3+L4)/3","v":1},0,0,0,{"$f":"(O2+O3+O4)/3","v":0},{"$f":"(P2+P3+P4)/3","v":0},{"$f":"(Q2+Q3+Q4)/3","v":0},{"$f":"STDEV(O2:O4)","v":0}]
[{"$f":"Entry!B6","v":3},"HA",{"$f":"Entry!C6","v":"1904-01-01"},{"$f":"Entry!D6","v":0},100,10,{"$f":"[1]Entry!M6","v":99},{"$f":"[1]Entry!N6","v":99},1,0,9.9,1,null,null,0,0,0]
[{"$f":"Entry!B7","v":4},"HA",{"$f":"Entry!C7","v":"1904-01-01"},{"$f":"Entry!D7","v":0},100,10,{"$f":"[1]Entry!M7","v":99},{"$f":"[1]Entry!N7","v":99},1,0,9.9,1,null,null,0,0,0]
[{"$f":"Entry!B8","v":5},"HA",{"$f":"Entry!C8","v":"1904-01-01"},{"$f":"Entry!D8","v":0},100,10,{"$f":"[1]Entry!M8","v":99},{"$f":"[1]Entry!N8","v":99},1,0,9.9,1,{"$f":"(K5+K6+K7)/3","v":9.9},{"$f":"(L5+L6+L7)/3","v":1},0,0,0,{"$f":"(O5+O6+O7)/3","v":0},{"$f":"(P5+P6+P7)/3","v":0},{"$f":"(Q5+Q6+Q7)/3","v":0},{"$f":"STDEV(O5:O7)","v":0}]
[{"$f":"Entry!B9","v":6},"HA",{"$f":"Entry!C9","v":"1904-01-01"},{"$f":"Entry!D9","v":0},100,10,{"$f":"[1]Entry!M9","v":99},{"$f":"[1]Entry!N9","v":99},1,0,9.9,1,null,null,0,0,0]
[{"$f":"Entry!B10","v":7},"HA",{"$f":"Entry!C10","v":"1904-01-01"},{"$f":"Entry!D10","v":0},100,10,{"$f":"[1]Entry!M10","v":99},{"$f":"[1]Entry!N10","v":99},1,0,9.9,1,null,null,0,0,0]
[{"$f":"Entry!B11","v":8},"HA",{"$f":"Entry!C11","v":"1904-01-01"},{"$f":"Entry!D11","v":0},100,10,{"$f":"[1]Entry!M11","v":99},{"$f":"[1]Entry!N11","v":99},1,0,9.9,1,9.9,1,0,0,0,0,0,0,0]
[{"$f":"Entry!B12","v":9},"HA",{"$f":"Entry!C12","v":"1904-01-01"},{"$f":"Entry!D12","v":0},100,10,{"$f":"[1]Entry!M12","v":99},{"$f":"[1]Entry!N12","v":99},1,0,9.9,1,null,null,0,0,0]
[{"$f":"Entry!B13","v":10},"HA",{"$f":"Entry!C13","v":"1904-01-01"},{"$f":"Entry!D13","v":0},100,10,{"$f":"[1]Entry!M13","v":99},{"$f":"[1]Entry!N13","v":99},1,0,9.9,1,null,null,0,0,0]
[{"$f":"Entry!B14","v":11},"HA",{"$f":"Entry!C14","v":"1904-01-01"},{"$f":"Entry!D14","v":0},100,10,{"$f":"[1]Entry!M14","v":99},{"$f":"[1]Entry!N14","v":99},1,0,9.9,1,9.9,1,0,0,0,0,0,0,0]
[{"$f":"Entry!B15","v":12},"HA",{"$f":"Entry!C15","v":"1904-01-01"},{"$f":"Entry!D15","v":0},100,10,{"$f":"[1]Entry!M15","v":99},{"$f":"[1]Entry!N15","v":99},1,0,9.9,1,null,null,0,0,0]
[{"$f":"Entry!B16","v":13},"HA",{"$f":"Entry!C16","v":"1904-01-01"},{"$f":"Entry!D16","v":0},100,10,{"$f":"[1]Entry!M16","v":99},{"$f":"[1]Entry!N16","v":99},1,0,9.9,1,null,null,0,0,0]
[{"$f":"Entry!B17","v":14},"HA",{"$f":"Entry!C17","v":"1904-01-01"},{"$f":"Entry!D17","v":0},100,10,{"$f":"[1]Entry!M17","v":99},{"$f":"[1]Entry!N17","v":99},1,0,9.9,1,9.9,1,0,0,0,0,0,0,0]
[{"$f":"Entry!B18","v":15},"HA",{"$f":"Entry!C18","v":"1904-01-01"},{"$f":"Entry!D18","v":0},100,10,{"$f":"[1]Entry!M18","v":99},{"$f":"[1]Entry!N18","v":99},1,0,9.9,1,null,null,0,0,0]
[{"$f":"Entry!B19","v":16},"HA",{"$f":"Entry!C19","v":"1904-01-01"},{"$f":"Entry!D19","v":0},100,10,{"$f":"[1]Entry!M19","v":99},{"$f":"[1]Entry!N19","v":99},1,0,9.9,1,null,null,0,0,0]
[{"$f":"Entry!B20","v":17},"HA",{"$f":"Entry!C20","v":"1904-01-01"},{"$f":"Entry!D20","v":0},100,10,{"$f":"[1]Entry!M20","v":99},{"$f":"[1]Entry!N20","v":99},1,0,9.9,1,9.9,1,0,0,0,0,0,0,0]
[{"$f":"Entry!B21","v":18},"HA",{"$f":"Entry!C21","v":"1904-01-01"},{"$f":"Entry!D21","v":0},100,10,{"$f":"[1]Entry!M21","v":99},{"$f":"[1]Entry!N21","v":99},1,0,9.9,1,null,null,0,0,0]
[{"$f":"Entry!B22","v":19},"HA",{"$f":"Entry!C22","v":"1904-01-01"},{"$f":"Entry!D22","v":0},100,10,{"$f":"[1]Entry!M22","v":99},{"$f":"[1]Entry!N22","v":99},1,0,9.9,1,null,null,0,0,0]
[{"$f":"Entry!B23","v":20},"HA",{"$f":"Entry!C23","v":"1904-01-01"},{"$f":"Entry!D23","v":0},100,10,{"$f":"[1]Entry!M23","v":99},{"$f":"[1]Entry!N23","v":99},1,0,9.9,1,9.9,1,0,0,0,0,0,0,0]
[{"$f":"Entry!B24","v":21},"HA",{"$f":"Entry!C24","v":"1904-01-01"},{"$f":"Entry!D24","v":0},100,10,{"$f":"[1]Entry!M24","v":99},{"$f":"[1]Entry!N24","v":99},1,0,9.9,1,null,null,0,0,0]
[{"$f":"Entry!B25","v":22},"HA",{"$f":"Entry!C25","v":"1904-01-01"},{"$f":"Entry!D25","v":0},100,10,{"$f":"[1]Entry!M25","v":99},{"$f":"[1]Entry!N25","v":99},1,0,9.9,1,null,null,0,0,0]
[{"$f":"Entry!B26","v":23},"HA",{"$f":"Entry!C26","v":"1904-01-01"},{"$f":"Entry!D26","v":0},100,10,{"$f":"[1]Entry!M26","v":99},{"$f":"[1]Entry!N26","v":99},1,0,9.9,1,9.9,1,0,0,0,0,0,0,0]
[{"$f":"Entry!B27","v":24},"HA",{"$f":"Entry!C27","v":"1904-01-01"},{"$f":"Entry!D27","v":0},100,10,{"$f":"[1]Entry!M27","v":99},{"$f":"[1]Entry!N27","v":99},1,0,9.9,1,null,null,0,0,0]
[{"$f":"Entry!B28","v":25},"HA",{"$f":"Entry!C28","v":"1904-01-01"},{"$f":"Entry!D28","v":0},100,10,{"$f":"[1]Entry!M28","v":99},{"$f":"[1]Entry!N28","v":99},1,0,9.9,1,null,null,0,0,0]
[{"$f":"Entry!B29","v":26},"HA",{"$f":"Entry!C29","v":"1904-01-01"},{"$f":"Entry!D29","v":0},100,10,{"$f":"[1]Entry!M29","v":99},{"$f":"[1]Entry!N29","v":99},1,0,9.9,1,9.9,1,0,0,0,0,0,0,0]
[{"$f":"Entry!B30","v":27},"HA",{"$f":"Entry!C30","v":"1904-01-01"},{"$f":"Entry!D30","v":0},100,10,{"$f":"[1]Entry!M30","v":0},{"$f":"[1]Entry!N30","v":0},1,0,0,{"$error":"#DIV/0!"},null,null,0,0,0]
[{"$f":"Entry!B31","v":28},"HA",{"$f":"Entry!C31","v":"1904-01-01"},{"$f":"Entry!D31","v":0},100,10,{"$f":"[1]Entry!M31","v":0},{"$f":"[1]Entry!N31","v":0},1,0,0,{"$error":"#DIV/0!"},null,null,0,0,0]
[{"$f":"Entry!B32","v":29},"HA",{"$f":"Entry!C32","v":"1904-01-01"},{"$f":"Entry!D32","v":0},100,10,{"$f":"[1]Entry!M32","v":0},{"$f":"[1]Entry!N32","v":0},1,0,0,{"$error":"#DIV/0!"},0,{"$error":"#DIV/0!"},0,0,0,0,0,0,0]
[{"$f":"Entry!B33","v":30},"HA",{"$f":"Entry!C33","v":"1904-01-01"},{"$f":"Entry!D33","v":0},100,10,{"$f":"[1]Entry!M33","v":0},{"$f":"[1]Entry!N33","v":0},1,0,0,{"$error":"#DIV/0!"},null,null,0,0,0]
[{"$f":"Entry!B34","v":31},"HA",{"$f":"Entry!C34","v":"1904-01-01"},{"$f":"Entry!D34","v":0},100,10,{"$f":"[1]Entry!M34","v":0},{"$f":"[1]Entry!N34","v":0},1,0,0,{"$error":"#DIV/0!"},null,null,0,0,0]
[{"$f":"Entry!B35","v":32},"HA",{"$f":"Entry!C35","v":"1904-01-01"},{"$f":"Entry!D35","v":0},100,10,{"$f":"[1]Entry!M35","v":0},{"$f":"[1]Entry!N35","v":0},1,0,0,{"$error":"#DIV/0!"},0,{"$error":"#DIV/0!"},0,0,0,0,0,0,0]
[{"$f":"Entry!B36","v":33},"HA",{"$f":"Entry!C36","v":"1904-01-01"},{"$f":"Entry!D36","v":0},100,10,{"$f":"[1]Entry!M36","v":0},{"$f":"[1]Entry!N36","v":0},1,0,0,{"$error":"#DIV/0!"},null,null,0,0,0]
[{"$f":"Entry!B37","v":34},"HA",{"$f":"Entry!C37","v":"1904-01-01"},{"$f":"Entry!D37","v":0},100,10,{"$f":"[1]Entry!M37","v":0},{"$f":"[1]Entry!N37","v":0},1,0,0,{"$error":"#DIV/0!"},null,null,0,0,0]
[{"$f":"Entry!B38","v":35},"HA",{"$f":"Entry!C38","v":"1904-01-01"},{"$f":"Entry!D38","v":0},100,10,{"$f":"[1]Entry!M38","v":0},{"$f":"[1]Entry!N38","v":0},1,0,0,{"$error":"#DIV/0!"},0,{"$error":"#DIV/0!"},0,0,0,0,0,0,0]

{"sheet":"simbios","index":2,"n_rows":58,"n_cols":6,"rows_kept":58,"cut":false,"hidden":false,"merged":[]}
["/begin_header"]
["/affiliations=Bigelow_Laboratory_for_Ocean_Sciences"]
["/investigators=William_Balch"]
["/contact=bbalch@bigelow.org"]
["/experiment=Scotia_Prince_ferry"]
[{"$f":"CONCATENATE(\"/cruise=s\",TEXT(Results!$C$2,\"yymmdd\"),\"w\")","v":"/cruise=s040101w"}]
["/data_type=pigment"]
[{"$f":"CONCATENATE(\"/east_longitude=\",TEXT(MAX(Results!#REF!),\"0.0000\"),\"[DEG]\")","v":{"$error":"#REF!"}}]
[{"$f":"CONCATENATE(\"/west_longitude=\",TEXT(MIN(Results!#REF!),\"0.0000\"),\"[DEG]\")","v":{"$error":"#REF!"}}]
[{"$f":"CONCATENATE(\"/north_latitude=\",TEXT(MAX(Results!#REF!),\"0.0000\"),\"[DEG]\")","v":{"$error":"#REF!"}}]
[{"$f":"CONCATENATE(\"/south_latitude=\",TEXT(MIN(Results!#REF!),\"0.0000\"),\"[DEG]\")","v":{"$error":"#REF!"}}]
[{"$f":"CONCATENATE(\"/start_date=\",TEXT(MIN(Results!$C$2:$C$10),\"yyyymmdd\"))","v":"/start_date=19040101"}]
[{"$f":"CONCATENATE(\"/end_date=\",TEXT(MAX(Results!$C$2:$C$10),\"yyyymmdd\"))","v":"/end_date=19040101"}]
[{"$f":"CONCATENATE(\"/start_time=\",TEXT(MIN(Results!$D$2:$D$10)+4/24,\"hh:mm:ss\"),\"[GMT]\")","v":"/start_time=04:00:00[GMT]"}]
[{"$f":"CONCATENATE(\"/end_time=\",TEXT(MAX(Results!$D$2:$D$10)+4/24,\"hh:mm:ss\"),\"[GMT]\")","v":"/end_time=04:00:00[GMT]"}]
["/fields=date,time,lat,lon,chl,station"]
["/units=yyyymmdd,hh:mm:ss,degrees,degrees,mg/m^3,none"]
["/delimiter=tab"]
["/documents=readme.txt"]
[{"$f":"CONCATENATE(\"/data_file_name=chl-s\",TEXT($A$32,\"yymmdd\"),\"w.xls\")","v":"/data_file_name=chl-s040101w.xls"}]
["/data_status=final"]
["/missing=-99.99"]
["/water_depth=NA"]
["/wind_speed=NA"]
["/wave_height=NA"]
["/secchi_depth=NA"]
["/station=NA"]
["/cloud_percent=NA"]
["/calibration_files=fluorometer-calibration.txt"]
["/measurement_depth=3"]
["/end_header@"]
[{"$f":"Results!C2","v":"1904-01-01"},{"$f":"Results!D2+4/24","v":"04:00:00"},{"$f":"Results!#REF!","v":{"$error":"#REF!"}},{"$f":"Results!#REF!","v":{"$error":"#REF!"}},{"$f":"Results!K2","v":9.9},{"$f":"LEFT(Results!A2,LEN(Results!A2)-1)","v":""}]
[{"$f":"Results!#REF!","v":{"$error":"#REF!"}},{"$f":"Results!#REF!+4/24","v":{"$error":"#REF!"}},{"$f":"Results!#REF!","v":{"$error":"#REF!"}},{"$f":"Results!#REF!","v":{"$error":"#REF!"}},{"$f":"Results!#REF!","v":{"$error":"#REF!"}},{"$f":"LEFT(Results!#REF!,LEN(Results!#REF!)-1)","v":{"$error":"#REF!"}}]
[{"$f":"Results!#REF!","v":{"$error":"#REF!"}},{"$f":"Results!#REF!+4/24","v":{"$error":"#REF!"}},{"$f":"Results!#REF!","v":{"$error":"#REF!"}},{"$f":"Results!#REF!","v":{"$error":"#REF!"}},{"$f":"Results!#REF!","v":{"$error":"#REF!"}},{"$f":"LEFT(Results!#REF!,LEN(Results!#REF!)-1)","v":{"$error":"#REF!"}}]
[{"$f":"Results!C3","v":"1904-01-01"},{"$f":"Results!D3+4/24","v":"04:00:00"},{"$f":"Results!#REF!","v":{"$error":"#REF!"}},{"$f":"Results!#REF!","v":{"$error":"#REF!"}},{"$f":"Results!M3","v":0},{"$f":"LEFT(Results!A3,LEN(Results!A3)-1)","v":""}]
[{"$f":"Results!#REF!","v":{"$error":"#REF!"}},{"$f":"Results!#REF!+4/24","v":{"$error":"#REF!"}},{"$f":"Results!#REF!","v":{"$error":"#REF!"}},{"$f":"Results!#REF!","v":{"$error":"#REF!"}},{"$f":"Results!#REF!","v":{"$error":"#REF!"}},{"$f":"LEFT(Results!#REF!,LEN(Results!#REF!)-1)","v":{"$error":"#REF!"}}]
[{"$f":"Results!#REF!","v":{"$error":"#REF!"}},{"$f":"Results!#REF!+4/24","v":{"$error":"#REF!"}},{"$f":"Results!#REF!","v":{"$error":"#REF!"}},{"$f":"Results!#REF!","v":{"$error":"#REF!"}},{"$f":"Results!#REF!","v":{"$error":"#REF!"}},{"$f":"LEFT(Results!#REF!,LEN(Results!#REF!)-1)","v":{"$error":"#REF!"}}]
[{"$f":"Results!C4","v":"1904-01-01"},{"$f":"Results!D4+4/24","v":"04:00:00"},{"$f":"Results!#REF!","v":{"$error":"#REF!"}},{"$f":"Results!#REF!","v":{"$error":"#REF!"}},{"$f":"Results!M4","v":9.9},{"$f":"LEFT(Results!A4,LEN(Results!A4)-1)","v":""}]
[{"$f":"Results!#REF!","v":{"$error":"#REF!"}},{"$f":"Results!#REF!+4/24","v":{"$error":"#REF!"}},{"$f":"Results!#REF!","v":{"$error":"#REF!"}},{"$f":"Results!#REF!","v":{"$error":"#REF!"}},{"$f":"Results!#REF!","v":{"$error":"#REF!"}},{"$f":"LEFT(Results!#REF!,LEN(Results!#REF!)-1)","v":{"$error":"#REF!"}}]
[{"$f":"Results!#REF!","v":{"$error":"#REF!"}},{"$f":"Results!#REF!+4/24","v":{"$error":"#REF!"}},{"$f":"Results!#REF!","v":{"$error":"#REF!"}},{"$f":"Results!#REF!","v":{"$error":"#REF!"}},{"$f":"Results!#REF!","v":{"$error":"#REF!"}},{"$f":"LEFT(Results!#REF!,LEN(Results!#REF!)-1)","v":{"$error":"#REF!"}}]
[{"$f":"Results!C5","v":"1904-01-01"},{"$f":"Results!D5+4/24","v":"04:00:00"},{"$f":"Results!#REF!","v":{"$error":"#REF!"}},{"$f":"Results!#REF!","v":{"$error":"#REF!"}},{"$f":"Results!O5","v":0},{"$f":"LEFT(Results!A5,LEN(Results!A5)-1)","v":""}]
[{"$f":"Results!#REF!","v":{"$error":"#REF!"}},{"$f":"Results!#REF!+4/24","v":{"$error":"#REF!"}},{"$f":"Results!#REF!","v":{"$error":"#REF!"}},{"$f":"Results!#REF!","v":{"$error":"#REF!"}},{"$f":"Results!#REF!","v":{"$error":"#REF!"}},{"$f":"LEFT(Results!#REF!,LEN(Results!#REF!)-1)","v":{"$error":"#REF!"}}]
[{"$f":"Results!#REF!","v":{"$error":"#REF!"}},{"$f":"Results!#REF!+4/24","v":{"$error":"#REF!"}},{"$f":"Results!#REF!","v":{"$error":"#REF!"}},{"$f":"Results!#REF!","v":{"$error":"#REF!"}},{"$f":"Results!#REF!","v":{"$error":"#REF!"}},{"$f":"LEFT(Results!#REF!,LEN(Results!#REF!)-1)","v":{"$error":"#REF!"}}]
[{"$f":"Results!C6","v":"1904-01-01"},{"$f":"Results!D6+4/24","v":"04:00:00"},{"$f":"Results!#REF!","v":{"$error":"#REF!"}},{"$f":"Results!#REF!","v":{"$error":"#REF!"}},{"$f":"Results!O6","v":0},{"$f":"LEFT(Results!A6,LEN(Results!A6)-1)","v":""}]
[{"$f":"Results!#REF!","v":{"$error":"#REF!"}},{"$f":"Results!#REF!+4/24","v":{"$error":"#REF!"}},{"$f":"Results!#REF!","v":{"$error":"#REF!"}},{"$f":"Results!#REF!","v":{"$error":"#REF!"}},{"$f":"Results!#REF!","v":{"$error":"#REF!"}},{"$f":"LEFT(Results!#REF!,LEN(Results!#REF!)-1)","v":{"$error":"#REF!"}}]
[{"$f":"Results!#REF!","v":{"$error":"#REF!"}},{"$f":"Results!#REF!+4/24","v":{"$error":"#REF!"}},{"$f":"Results!#REF!","v":{"$error":"#REF!"}},{"$f":"Results!#REF!","v":{"$error":"#REF!"}},{"$f":"Results!#REF!","v":{"$error":"#REF!"}},{"$f":"LEFT(Results!#REF!,LEN(Results!#REF!)-1)","v":{"$error":"#REF!"}}]
[{"$f":"Results!C7","v":"1904-01-01"},{"$f":"Results!D7+4/24","v":"04:00:00"},{"$f":"Results!#REF!","v":{"$error":"#REF!"}},{"$f":"Results!#REF!","v":{"$error":"#REF!"}},{"$f":"Results!O7","v":0},{"$f":"LEFT(Results!A7,LEN(Results!A7)-1)","v":""}]
[{"$f":"Results!#REF!","v":{"$error":"#REF!"}},{"$f":"Results!#REF!+4/24","v":{"$error":"#REF!"}},{"$f":"Results!#REF!","v":{"$error":"#REF!"}},{"$f":"Results!#REF!","v":{"$error":"#REF!"}},{"$f":"Results!#REF!","v":{"$error":"#REF!"}},{"$f":"LEFT(Results!#REF!,LEN(Results!#REF!)-1)","v":{"$error":"#REF!"}}]
[{"$f":"Results!#REF!","v":{"$error":"#REF!"}},{"$f":"Results!#REF!+4/24","v":{"$error":"#REF!"}},{"$f":"Results!#REF!","v":{"$error":"#REF!"}},{"$f":"Results!#REF!","v":{"$error":"#REF!"}},{"$f":"Results!#REF!","v":{"$error":"#REF!"}},{"$f":"LEFT(Results!#REF!,LEN(Results!#REF!)-1)","v":{"$error":"#REF!"}}]
[{"$f":"Results!C8","v":"1904-01-01"},{"$f":"Results!D8+4/24","v":"04:00:00"},{"$f":"Results!#REF!","v":{"$error":"#REF!"}},{"$f":"Results!#REF!","v":{"$error":"#REF!"}},{"$f":"Results!O8","v":0},{"$f":"LEFT(Results!A8,LEN(Results!A8)-1)","v":""}]
[{"$f":"Results!#REF!","v":{"$error":"#REF!"}},{"$f":"Results!#REF!+4/24","v":{"$error":"#REF!"}},{"$f":"Results!#REF!","v":{"$error":"#REF!"}},{"$f":"Results!#REF!","v":{"$error":"#REF!"}},{"$f":"Results!#REF!","v":{"$error":"#REF!"}},{"$f":"LEFT(Results!#REF!,LEN(Results!#REF!)-1)","v":{"$error":"#REF!"}}]
[{"$f":"Results!#REF!","v":{"$error":"#REF!"}},{"$f":"Results!#REF!+4/24","v":{"$error":"#REF!"}},{"$f":"Results!#REF!","v":{"$error":"#REF!"}},{"$f":"Results!#REF!","v":{"$error":"#REF!"}},{"$f":"Results!#REF!","v":{"$error":"#REF!"}},{"$f":"LEFT(Results!#REF!,LEN(Results!#REF!)-1)","v":{"$error":"#REF!"}}]
[{"$f":"Results!C9","v":"1904-01-01"},{"$f":"Results!D9+4/24","v":"04:00:00"},{"$f":"Results!#REF!","v":{"$error":"#REF!"}},{"$f":"Results!#REF!","v":{"$error":"#REF!"}},{"$f":"Results!O9","v":0},{"$f":"LEFT(Results!A9,LEN(Results!A9)-1)","v":""}]
[{"$f":"Results!#REF!","v":{"$error":"#REF!"}},{"$f":"Results!#REF!+4/24","v":{"$error":"#REF!"}},{"$f":"Results!#REF!","v":{"$error":"#REF!"}},{"$f":"Results!#REF!","v":{"$error":"#REF!"}},{"$f":"Results!#REF!","v":{"$error":"#REF!"}},{"$f":"LEFT(Results!#REF!,LEN(Results!#REF!)-1)","v":{"$error":"#REF!"}}]
[{"$f":"Results!#REF!","v":{"$error":"#REF!"}},{"$f":"Results!#REF!+4/24","v":{"$error":"#REF!"}},{"$f":"Results!#REF!","v":{"$error":"#REF!"}},{"$f":"Results!#REF!","v":{"$error":"#REF!"}},{"$f":"Results!#REF!","v":{"$error":"#REF!"}},{"$f":"LEFT(Results!#REF!,LEN(Results!#REF!)-1)","v":{"$error":"#REF!"}}]
[{"$f":"Results!C10","v":"1904-01-01"},{"$f":"Results!D10+4/24","v":"04:00:00"},{"$f":"Results!#REF!","v":{"$error":"#REF!"}},{"$f":"Results!#REF!","v":{"$error":"#REF!"}},{"$f":"Results!O10","v":0},{"$f":"LEFT(Results!A10,LEN(Results!A10)-1)","v":""}]
[{"$f":"Results!#REF!","v":{"$error":"#REF!"}},{"$f":"Results!#REF!+4/24","v":{"$error":"#REF!"}},{"$f":"Results!#REF!","v":{"$error":"#REF!"}},{"$f":"Results!#REF!","v":{"$error":"#REF!"}},{"$f":"Results!#REF!","v":{"$error":"#REF!"}},{"$f":"LEFT(Results!#REF!,LEN(Results!#REF!)-1)","v":{"$error":"#REF!"}}]
[{"$f":"Results!#REF!","v":{"$error":"#REF!"}},{"$f":"Results!#REF!+4/24","v":{"$error":"#REF!"}},{"$f":"Results!#REF!","v":{"$error":"#REF!"}},{"$f":"Results!#REF!","v":{"$error":"#REF!"}},{"$f":"Results!#REF!","v":{"$error":"#REF!"}},{"$f":"LEFT(Results!#REF!,LEN(Results!#REF!)-1)","v":{"$error":"#REF!"}}]

{"sheet":"stn info","index":3,"n_rows":9,"n_cols":3,"rows_kept":9,"cut":false,"hidden":false,"merged":[]}
[{"$f":"Entry!B3","v":0},{"$f":"Entry!#REF!","v":{"$error":"#REF!"}},{"$f":"Entry!#REF!","v":{"$error":"#REF!"}}]
[{"$f":"Entry!B4","v":1},{"$f":"Entry!#REF!","v":{"$error":"#REF!"}},{"$f":"Entry!#REF!","v":{"$error":"#REF!"}}]
[{"$f":"Entry!B5","v":2},{"$f":"Entry!#REF!","v":{"$error":"#REF!"}},{"$f":"Entry!#REF!","v":{"$error":"#REF!"}}]
[{"$f":"Entry!B6","v":3},{"$f":"Entry!#REF!","v":{"$error":"#REF!"}},{"$f":"Entry!#REF!","v":{"$error":"#REF!"}}]
[{"$f":"Entry!B7","v":4},{"$f":"Entry!#REF!","v":{"$error":"#REF!"}},{"$f":"Entry!#REF!","v":{"$error":"#REF!"}}]
[{"$f":"Entry!B8","v":5},{"$f":"Entry!#REF!","v":{"$error":"#REF!"}},{"$f":"Entry!#REF!","v":{"$error":"#REF!"}}]
[{"$f":"Entry!B9","v":6},{"$f":"Entry!#REF!","v":{"$error":"#REF!"}},{"$f":"Entry!#REF!","v":{"$error":"#REF!"}}]
[{"$f":"Entry!B10","v":7},{"$f":"Entry!#REF!","v":{"$error":"#REF!"}},{"$f":"Entry!#REF!","v":{"$error":"#REF!"}}]
[{"$f":"Entry!B11","v":8},{"$f":"Entry!#REF!","v":{"$error":"#REF!"}},{"$f":"Entry!#REF!","v":{"$error":"#REF!"}}]